BEGIN:VCALENDAR
VERSION:2.0
PRODID:-//Tukios.com/
BEGIN:VEVENT
UID:8345e985-1156-489c-ad38-5b9ec4cdc8c4@www.bakerfuneralhomeonline.com
DTSTAMP:20260419T233741Z
DTSTART:20260424T140000Z
DTEND:20260424T160000Z
SUMMARY:Public Viewing
DESCRIPTION:
URL:https://www.bakerfuneralhomeonline.com/obituaries/madeline-bueche
LOCATION:St. Isidore Catholic Church 5657 Thomas Road  Baker LA 70714
GEO:30.5592158;-91.1338655
END:VEVENT
END:VCALENDAR