BEGIN:VCALENDAR
VERSION:2.0
PRODID:-//Tukios.com/
BEGIN:VEVENT
UID:922abb67-141f-47ea-a0f7-3983091c662a@www.bakerfuneralhomeonline.com
DTSTAMP:20260419T233943Z
DTSTART:20260424T160000Z
DTEND:20260424T170000Z
SUMMARY:Mass
DESCRIPTION:
URL:https://www.bakerfuneralhomeonline.com/obituaries/madeline-bueche
LOCATION:St. Isidore Catholic Church 5657 Thomas Road  Baker LA 70714
GEO:30.5592158;-91.1338655
END:VEVENT
END:VCALENDAR