BEGIN:VCALENDAR
VERSION:2.0
PRODID:-//Tukios.com/
BEGIN:VEVENT
UID:206c0cb4-bcda-49ce-8c32-e9990e4c0f55@www.bakerfuneralhomeonline.com
DTSTAMP:20260421T082504Z
DTSTART:20260424T170000Z
DTEND:20260424T173000Z
SUMMARY:Graveside Service
DESCRIPTION:
URL:https://www.bakerfuneralhomeonline.com/obituaries/madeline-bueche
LOCATION:Hillcrest Memorial Gardens 6213 Groom Road  Baker LA 70714
GEO:30.5841729;-91.1311045
END:VEVENT
END:VCALENDAR